BEGIN:VCALENDAR
PRODID:-//eluceo/ical//2.0/EN
VERSION:2.0
CALSCALE:GREGORIAN
BEGIN:VEVENT
UID:a682257fe789d0f447374fdfa0eb32cb
DTSTAMP:20260422T101527Z
SUMMARY:Little Bits of Light
DESCRIPTION:Jewish Federation of New Hampshire\nCommunity Calendar\nhttps:/
 /jewishnh.org/community-calendar/little-bits-of-light\n\nIn this unique ad
 aptation of I Never Saw Another Butterfly\, playwright Amanda Faye Martin 
 intertwines poems and artwork from children at the concentration camp Tere
 zin with major historical events and her own family’s history. The story
  follows Pepicek\, an optimistic Czech boy\, and Werner\, an isolated youn
 g man who only recently discovered he’s Jewish\, during their time at Te
 rezin. Tension builds as the camp anticipates a visit from the Red Cross a
 nd children are whisked away to places un...
DTSTART;TZID=America/New_York:20190413T193000
DTEND;TZID=America/New_York:20190413T213000
END:VEVENT
END:VCALENDAR
