BEGIN:VCALENDAR
PRODID:-//eluceo/ical//2.0/EN
VERSION:2.0
CALSCALE:GREGORIAN
BEGIN:VEVENT
UID:5662a8bccdd87d5f3dd4421574bd09ea
DTSTAMP:20260423T084710Z
SUMMARY:LIVE from Jerusalem- Chanukah Concert
DESCRIPTION:Jewish Federation of New Hampshire\nCommunity Calendar\nhttps:/
 /jewishnh.org/community-calendar/live-from-jerusalem--chanukah-concert-160
 3997839\n\nChanukah Zoom Concert\nSunday\, December 13th\, 5PM on Zoom\nNO
  COST\n\n~LIVE from Jerusalem\, the Gat Brothers (finalists on Israel's Ri
 sing Star TV show)\nwill be performing classic hits such as The Sound Of S
 ilence and Nowhere Man as well as Jewish/Hebrew favorites!\n\n~ Prepare yo
 ur Menorah to kindle simultaneously as we light up our Zoom windows and ou
 r hearts.\nIt will be a Chanukah evening to remember! Register at Chabadof
 NH.com/concert\n\n(FREE with registration- Chanukah Watch Party bag...
DTSTART;TZID=America/New_York:20201213T170000
DTEND;TZID=America/New_York:20201213T181500
END:VEVENT
END:VCALENDAR
