BEGIN:VCALENDAR
PRODID:-//eluceo/ical//2.0/EN
VERSION:2.0
CALSCALE:GREGORIAN
BEGIN:VEVENT
UID:cc135b1b7cbd957bccf74b151bd1ae72
DTSTAMP:20260421T175440Z
SUMMARY:Love in Suspenders- NH Jewish Film Festival
DESCRIPTION:Jewish Federation of New Hampshire\nCommunity Calendar\nhttps:/
 /jewishnh.org/community-calendar/love-in-suspenders--nh-jewish-film-festiv
 al-1581461095\n\nLove in Suspenders\nNew Hampshire Premiere\nSunday\, Marc
 h 29\, 2020\, 3:30 PM\nRed River Theatres\, Concord\, NH\nAdmission: $12.0
 0\n\nDirector: Jorge Weller\nComedy\, 2019\, Israel\n102 minutes\nHebrew w
 ith English subtitles\nContent Warning: Adult Content\n\nWhen absent-minde
 d Israeli widow Tami accidentally bumps 70-year-old widower Beno with her 
 car\, the last thing on her mind is romance. Hoping Beno wont sue her\, sh
 e invites him to her apartment. Circumstances conspire to continually brin
 g the...
DTSTART;TZID=America/New_York:20200329T153000
DTEND;TZID=America/New_York:20200329T170000
END:VEVENT
END:VCALENDAR
