BEGIN:VCALENDAR
PRODID:-//eluceo/ical//2.0/EN
VERSION:2.0
CALSCALE:GREGORIAN
BEGIN:VEVENT
UID:b504d2d4529566e23000d8ecc4c812f9
DTSTAMP:20260423T153813Z
SUMMARY:Love Will Always Win rally
DESCRIPTION:Jewish Federation of New Hampshire\nCommunity Calendar\nhttps:/
 /jewishnh.org/community-calendar/love-will-always-win-rally-1640264248\n\n
 In response to the hate group that came to Portsmouth and stained it\, let
 ’s rally outside the Seacoast Rep on Bow Street and show some love. Bund
 le up\, bring your signs of love and rainbows and get ready to spread the 
 love! Let’s show our Arts and entire community support and let’s show 
 everyone that LOVE ALWAYS WINS.
DTSTART;TZID=America/New_York:20220108T100000
DTEND;TZID=America/New_York:20220108T120000
END:VEVENT
END:VCALENDAR
