BEGIN:VCALENDAR
PRODID:-//eluceo/ical//2.0/EN
VERSION:2.0
CALSCALE:GREGORIAN
BEGIN:VEVENT
UID:f787ed37162a059ec8c9e7ed5c5d6ce0
DTSTAMP:20260422T065632Z
SUMMARY:Lulav Parade & picnic lunch with TIP at Spiller Farm
DESCRIPTION:Jewish Federation of New Hampshire\nCommunity Calendar\nhttps:/
 /jewishnh.org/community-calendar/lulav-parade--picnic-lunch-with-tip-at-sp
 iller-farm-1628626826\n\nBring your lulav and etrog to this family-friendl
 y\, outdoor Sukkot celebration! Hosted by Temple Israel\, Portsmouth\, and
  the Spiller Farm\, 85 Spiller Farm Road\, Wells\, Maine.
DTSTART;TZID=America/New_York:20210925T110000
DTEND;TZID=America/New_York:20210925T130000
END:VEVENT
END:VCALENDAR
