BEGIN:VCALENDAR
PRODID:-//eluceo/ical//2.0/EN
VERSION:2.0
CALSCALE:GREGORIAN
BEGIN:VEVENT
UID:c751a4228462288d05dfdc461bfb342d
DTSTAMP:20260423T032108Z
SUMMARY:Lunch & Learn: Immigration Law with Louis Haskell
DESCRIPTION:Jewish Federation of New Hampshire\nCommunity Calendar\nhttps:/
 /jewishnh.org/community-calendar/lunch--learn-immigration-law-with-louis-h
 askell-1552068000\n\nTemple member\, Louis Haskell\, is an attorney who ha
 s practiced law in the city of Lowell for over 30 years. He has a busy imm
 igration practice\, with a particular emphasis on the Southeast Asian comm
 unity. HIs office speaks Thai\, Cambodian\, Lao\, Spanish\, and Portuguese
 \, although Attorney Haskell describes himself as decidedly monolingual.\n
 \nHaskell will be addressing the subject of immigration in today's politic
 al climate\, focusing on the issues of family based immigration and deport
 ation.
DTSTART;TZID=America/New_York:20190316T123000
DTEND;TZID=America/New_York:20190316T143000
END:VEVENT
END:VCALENDAR
