BEGIN:VCALENDAR
PRODID:-//eluceo/ical//2.0/EN
VERSION:2.0
CALSCALE:GREGORIAN
BEGIN:VEVENT
UID:8bf494e28dc663f218130862745a81a1
DTSTAMP:20260422T122256Z
SUMMARY:Lunch & Learn: Martin Luther King
DESCRIPTION:Jewish Federation of New Hampshire\nCommunity Calendar\nhttps:/
 /jewishnh.org/community-calendar/lunch--learn-martin-luther-king-154644861
 0\n\nJoin Temple Beth Abraham after Shabbat services for a discussion abou
 t MLK\, Rabbi Heschel\, and the Religious Teachings of the Civil Rights Mo
 vement.
DTSTART;TZID=America/New_York:20190119T123000
DTEND;TZID=America/New_York:20190119T140000
END:VEVENT
END:VCALENDAR
