BEGIN:VCALENDAR
PRODID:-//eluceo/ical//2.0/EN
VERSION:2.0
CALSCALE:GREGORIAN
BEGIN:VEVENT
UID:09cc72ba982470085da1febc921e5524
DTSTAMP:20260422T131805Z
SUMMARY:Lunch & musical program featuring Kimayo after Shabbat AM Service
DESCRIPTION:Jewish Federation of New Hampshire\nCommunity Calendar\nhttps:/
 /jewishnh.org/community-calendar/lunch--musical-program-featuring-kimayo-a
 fter-shabbat-am-service-1672947160\n\nTemple B’nai Israel of Laconia\nAd
 ult Education Series “Awareness and Acceptance in 2023”\nOur Ethical R
 esponsibility to Each Other and the World\nFourth in a four-part series
DTSTART;TZID=America/New_York:20230304T103000
DTEND;TZID=America/New_York:20230304T130000
END:VEVENT
END:VCALENDAR
