BEGIN:VCALENDAR
PRODID:-//eluceo/ical//2.0/EN
VERSION:2.0
CALSCALE:GREGORIAN
BEGIN:VEVENT
UID:09a9f08f0cb5fd9637b98264222727d4
DTSTAMP:20260422T065527Z
SUMMARY:Lunch and Learn: Israeli Deputy Consul-General for New England
DESCRIPTION:Jewish Federation of New Hampshire\nCommunity Calendar\nhttps:/
 /jewishnh.org/community-calendar/lunch-and-learn-israeli-deputy-consul-gen
 eral-for-new-england\n\nLunch and Learn: Israeli Deputy Consul-General for
  New England\n12:30 PM\, Temple Beth Abraham\, Nashua\n\nMatan Zamir has b
 een the Israeli Deputy Consul-General to New England since 2016. He has be
 en a member of Israel's Foreign Service since 2011. Please come and meet t
 he Deputy Consul-General. He will be discussing Yom HaAtzma'ut and current
  events in Israel. There is no cost and RSVP is not required. More informa
 tion: 883-8184
DTSTART;TZID=America/New_York:20180424T123000
DTEND;TZID=America/New_York:20180424T133000
END:VEVENT
END:VCALENDAR
