BEGIN:VCALENDAR
PRODID:-//eluceo/ical//2.0/EN
VERSION:2.0
CALSCALE:GREGORIAN
BEGIN:VEVENT
UID:c19a6b41662e9c60f32520eaed96cb18
DTSTAMP:20260422T213020Z
SUMMARY:Lunch & Learn: A Talk with Galina Nizhikov
DESCRIPTION:Jewish Federation of New Hampshire\nCommunity Calendar\nhttps:/
 /jewishnh.org/community-calendar/lunch-learn-a-talk-with-galina-nizhikov\n
 \nLunch & Learn: A Talk with Galina Nizhikov\n\nGalina Nizhnikov (the moth
 er of a TBA congregant) was a "refusenik" in the Soviet Union and later im
 migrant to the United States. She will discuss her life in the Soviet Unio
 n and her involvement with the Jewish women's movement in the 1970s during
  the Brezhnev Era. Mrs. Nizhikov is the author of Against the Kremlin Wall
 \, which describes her experience in the Soviet Union's Jewish women's mov
 ement. More information: 883-8184
DTSTART;TZID=America/New_York:20180414T120000
DTEND;TZID=America/New_York:20180414T140000
END:VEVENT
END:VCALENDAR
