BEGIN:VCALENDAR
PRODID:-//eluceo/ical//2.0/EN
VERSION:2.0
CALSCALE:GREGORIAN
BEGIN:VEVENT
UID:dff11f176a73c8d5a6cdd41e7c55071e
DTSTAMP:20260422T082314Z
SUMMARY:Lunch & Learn: "Project Preservation"
DESCRIPTION:Jewish Federation of New Hampshire\nCommunity Calendar\nhttps:/
 /jewishnh.org/community-calendar/lunch-learn-project-preservation\n\nJoin 
 us on November 30th for a "Lunch & Learn" with Melissa Herman\, Director 
 of Education at Kol Ha'Emek\, Upper Valley Jewish Community. In June 2023 
 Melissa led a trip to Poland through Project Preservation along with Rabbi
  Seth Linfield. Melissa will share stories and photos from her recent trip
  and then answer questions. Lunch provided.\n\nProject Preservation is a p
 roject designed by Dartmouth Hillel to take current Dartmouth students to 
 Eastern Europe where they learn about the holocaus...
DTSTART;TZID=America/New_York:20231130T120000
DTEND;TZID=America/New_York:20231130T140000
END:VEVENT
END:VCALENDAR
