BEGIN:VCALENDAR
PRODID:-//eluceo/ical//2.0/EN
VERSION:2.0
CALSCALE:GREGORIAN
BEGIN:VEVENT
UID:611e1a08f56332fd6a148bfa56e341c4
DTSTAMP:20260424T052145Z
SUMMARY:Lunch N'Learn Tefilah Class
DESCRIPTION:Jewish Federation of New Hampshire\nCommunity Calendar\nhttps:/
 /jewishnh.org/community-calendar/lunch-nlearn-tefilah-class-1672953020\n\n
 For many of us\, our education about Jewish prayer ended when we graduated
  from Hebrew School. This 6-session class\, led by Rabba Kaya Stern-Kaufma
 n\, will provide a deeper understanding of the basic components\, structur
 e\, and rhythms of our services including the roles of both the prayer lea
 der and the congregation. We will explore why our services were establishe
 d in the forms we have inherited and the spiritual significance which unde
 rlies the many prayers we recite. This class will be usefu...
DTSTART;TZID=America/New_York:20230209T121500
DTEND;TZID=America/New_York:20230209T131500
END:VEVENT
END:VCALENDAR
