BEGIN:VCALENDAR
PRODID:-//eluceo/ical//2.0/EN
VERSION:2.0
CALSCALE:GREGORIAN
BEGIN:VEVENT
UID:377274663193f9573c49ff7d886c2950
DTSTAMP:20260423T090829Z
SUMMARY:Mak'Hela: The Jewish Chorus of Western MA
DESCRIPTION:Jewish Federation of New Hampshire\nCommunity Calendar\nhttps:/
 /jewishnh.org/community-calendar/makhela-the-jewish-chorus-of-western-ma\n
 \nThe chorus is now in its 15th year and brings to audiences a wide range 
 of beautiful\, exciting and spiritual Jewish choral music. This concert wi
 ll include liturgical gems in Hebrew\, Yiddish favorites\, Klezmer-style l
 ively toe-tapping numbers\, and more. More information\; 352-6747
DTSTART;TZID=America/New_York:20180408T150000
DTEND;TZID=America/New_York:20180408T170000
END:VEVENT
END:VCALENDAR
