BEGIN:VCALENDAR
PRODID:-//eluceo/ical//2.0/EN
VERSION:2.0
CALSCALE:GREGORIAN
BEGIN:VEVENT
UID:7aee96c37304ae7368bc67986cd002db
DTSTAMP:20260422T234919Z
SUMMARY:Manchester Chapter of Hadassah Meeting
DESCRIPTION:Jewish Federation of New Hampshire\nCommunity Calendar\nhttps:/
 /jewishnh.org/community-calendar/manchester-chapter-of-hadassah-meeting-15
 70744905\n\nManchester Chapter of Hadassah Meeting\n1400 Front Street\, Ma
 nchester\nSpeakers: Rachel Spierer and Mary Singer discussing Debbie Fried
 man's liturgical lyrics and music\nFor more info\, contact Michele Bank @ 
 michele.bank@gmail.com
DTSTART;TZID=America/New_York:20191114T130000
DTEND;TZID=America/New_York:20191114T150000
END:VEVENT
END:VCALENDAR
