BEGIN:VCALENDAR
PRODID:-//eluceo/ical//2.0/EN
VERSION:2.0
CALSCALE:GREGORIAN
BEGIN:VEVENT
UID:00c1530acbddaef74d08ddcc5f1fcb4c
DTSTAMP:20260422T083610Z
SUMMARY:Manchester Chapter of Hadassah Shabbat Service at TAY
DESCRIPTION:Jewish Federation of New Hampshire\nCommunity Calendar\nhttps:/
 /jewishnh.org/community-calendar/manchester-chapter-of-hadassah-shabbat-se
 rvice-at-tay-1678425836\n\nRabbi Beth Davidson of Temple Adath Yeshurun wi
 ll lead a Hadassah Shabbat Service celebrating Yom Ha'atzmaut\, Israeli In
 dependence Day. Members of the Manchester Chapter of Hadassah will partici
 pate in the service and host an Oneg.\nMembers are welcome to volunteer to
  partake in the service or bake for the Oneg. The community is welcome to 
 attend the service.
DTSTART;TZID=America/New_York:20230421T190000
DTEND;TZID=America/New_York:20230421T210000
END:VEVENT
END:VCALENDAR
