BEGIN:VCALENDAR
PRODID:-//eluceo/ical//2.0/EN
VERSION:2.0
CALSCALE:GREGORIAN
BEGIN:VEVENT
UID:f19cae72cc3cf0f63dfd36e1c5401cd6
DTSTAMP:20260422T210231Z
SUMMARY:Manchester Community Theatre Players MIRIAM: A NEW MUSICAL
DESCRIPTION:Jewish Federation of New Hampshire\nCommunity Calendar\nhttps:/
 /jewishnh.org/community-calendar/manchester-community-theatre-players-miri
 am-a-new-musical\n\nDo you sing Debbie Friedman’s music in your congrega
 tion?\n\nManchester Community Theatre Players presents the world premiere 
 of Miriam: The First Woman Prophet… a New Musical streamed live on stage
 .  Miriam features the music of iconic Jewish singer/songwriter and comp
 oser Debbie Freidman who had 22 CDs and three sold out performances at Car
 negie Hall. Debbie’s music was re-arranged for full orchestra and four-p
 art harmony by internationally known composer Or Oren. \n\nWatch as the .
 ..
DTSTART;TZID=America/New_York:20210521T193000
DTEND;TZID=America/New_York:20210523T140000
END:VEVENT
END:VCALENDAR
