BEGIN:VCALENDAR
PRODID:-//eluceo/ical//2.0/EN
VERSION:2.0
CALSCALE:GREGORIAN
BEGIN:VEVENT
UID:77b337c0a4d4260004f493c6b8c34747
DTSTAMP:20260422T184233Z
SUMMARY:Manchester Hadassah Book Club
DESCRIPTION:Jewish Federation of New Hampshire\nCommunity Calendar\nhttps:/
 /jewishnh.org/community-calendar/manchester-hadassah-book-club-1691609844\
 n\nMembers will discuss the book\, The Bakers Secret by Stephen P. Kiernan
  over dinner at a local restaurant.
DTSTART;TZID=America/New_York:20230913T170000
DTEND;TZID=America/New_York:20230913T190000
END:VEVENT
END:VCALENDAR
