BEGIN:VCALENDAR
PRODID:-//eluceo/ical//2.0/EN
VERSION:2.0
CALSCALE:GREGORIAN
BEGIN:VEVENT
UID:113733763404e0ac2811b1112b006b16
DTSTAMP:20260424T012951Z
SUMMARY:Manchester Hadassah Book Club Meeting
DESCRIPTION:Jewish Federation of New Hampshire\nCommunity Calendar\nhttps:/
 /jewishnh.org/community-calendar/manchester-hadassah-book-club-meeting-157
 0745145\n\nHadassah Book Club Meeting discussing The Bridge Ladies: A Memo
 ir by Betsy Lerner\nFor meeting site info\, contact Helen Arnold at helena
 rnold@comcast.net
DTSTART;TZID=America/New_York:20191119T170000
DTEND;TZID=America/New_York:20191119T190000
END:VEVENT
END:VCALENDAR
