BEGIN:VCALENDAR
PRODID:-//eluceo/ical//2.0/EN
VERSION:2.0
CALSCALE:GREGORIAN
BEGIN:VEVENT
UID:74b9774b44b38ebe2dc80ab64469f94d
DTSTAMP:20260425T005454Z
SUMMARY:Manchester Hebrew Cemetery Memorial Day Service
DESCRIPTION:Jewish Federation of New Hampshire\nCommunity Calendar\nhttps:/
 /jewishnh.org/community-calendar/manchester-hebrew-cemetery-memorial-day-s
 ervice-1553791026\n\nPlease join us to remember our veterans on Memorial D
 ay.\nManchester Hebrew Cemetery\nBeech Street\nManchester\, NH 03103
DTSTART;TZID=America/New_York:20190527T170000
DTEND;TZID=America/New_York:20190527T190000
END:VEVENT
END:VCALENDAR
