BEGIN:VCALENDAR
PRODID:-//eluceo/ical//2.0/EN
VERSION:2.0
CALSCALE:GREGORIAN
BEGIN:VEVENT
UID:7a8f22da34d932bb0119c7dcd738700d
DTSTAMP:20260423T053420Z
SUMMARY:Mandylicious Virtual Challah Bake
DESCRIPTION:Jewish Federation of New Hampshire\nCommunity Calendar\nhttps:/
 /jewishnh.org/community-calendar/mandylicious-virtual-challah-bake\n\nJoin
  Mandylicious for a Challah Demonstration!\n\nMandy Silverman founded Mand
 ylicious in 2013 in Sharon\, MA\, and has since built a worldwide followin
 g having created over 350 unique challah and babka recipes. In addition to
  selling challah and teaching classes\, she loves sharing her recipes and 
 tips\, and supporting others who want to make their own challah. Follow he
 r on Instagram @mandyliciouschallah.  \n\nMandy will be offering a 2-par
 t Challah baking demonstration on January 6th. Join u...
DTSTART;TZID=America/New_York:20220106T173000
DTEND;TZID=America/New_York:20220106T210000
END:VEVENT
END:VCALENDAR
