BEGIN:VCALENDAR
PRODID:-//eluceo/ical//2.0/EN
VERSION:2.0
CALSCALE:GREGORIAN
BEGIN:VEVENT
UID:407126f0e0a9ad69843ef520f4de9191
DTSTAMP:20260423T021821Z
SUMMARY:MANTY  Youth Group Kickoff Meeting
DESCRIPTION:Jewish Federation of New Hampshire\nCommunity Calendar\nhttps:/
 /jewishnh.org/community-calendar/manty--youth-group-kickoff-meeting-159714
 7980\n\nAs you may know\, MANTY is the Jewish youth group based out of Tem
 ple Adath Yeshurun. It is open to all Jewish high-schoolers in the Greater
  Manchester Area\, regardless of temple membership. I am reaching out to i
 nvite you to join us for fun and fellowship with other Jewish teenagers.\n
 \nMANTY is part of the Union for Reform Judaism's National Federation of T
 emple Youth. NFTY is a movement that builds strong\, welcoming\, inspired 
 communities through teen-powered engagement. Together\, they...
DTSTART;TZID=America/New_York:20200813T190000
DTEND;TZID=America/New_York:20200813T210000
END:VEVENT
END:VCALENDAR
