BEGIN:VCALENDAR
PRODID:-//eluceo/ical//2.0/EN
VERSION:2.0
CALSCALE:GREGORIAN
BEGIN:VEVENT
UID:54e8eeffbd1421ebd251b9cf4f718bf3
DTSTAMP:20260421T213553Z
SUMMARY:March for Israel\, D.C.
DESCRIPTION:Jewish Federation of New Hampshire\nCommunity Calendar\nhttps:/
 /jewishnh.org/community-calendar/march-for-israel\n\nTUESDAY\, NOVEMBER 14
 \, 2023\n\nNational Mall\, Washington\, DC: 1:00pm – 3:00pm. Gates open 
 10:00am.\n\nBE THERE\, BE HEARD.\n\nMore information: https://www.marchfo
 risrael.org/
DTSTART;TZID=America/New_York:20231114T130000
DTEND;TZID=America/New_York:20231114T150000
END:VEVENT
END:VCALENDAR
