BEGIN:VCALENDAR
PRODID:-//eluceo/ical//2.0/EN
VERSION:2.0
CALSCALE:GREGORIAN
BEGIN:VEVENT
UID:a66be3e3b511e6066ed470b208fb7381
DTSTAMP:20260422T173903Z
SUMMARY:PJ Library March Tot Shabbat Hop
DESCRIPTION:Jewish Federation of New Hampshire\nCommunity Calendar\nhttps:/
 /jewishnh.org/community-calendar/march-tot-shabbat-hop\n\nPJ Library 's jB
 aby and Early Education Initiative invite families with children 0-5 (sibl
 ings welcome) to celebrate Shabbat morning together.\n\nBundle up and enjo
 y Stories\, Singing\, and Blessings followed by a Kiddie Kiddush\n\nSpace 
 is limited and registration required.\n.......\n\nSaturday\, March 26th ~ 
 10AM\nCourtyard of Temple Israel Portsmouth - 200 State St.\, Portsmouth
DTSTART;TZID=America/New_York:20220326T100000
DTEND;TZID=America/New_York:20220326T110000
END:VEVENT
END:VCALENDAR
