BEGIN:VCALENDAR
PRODID:-//eluceo/ical//2.0/EN
VERSION:2.0
CALSCALE:GREGORIAN
BEGIN:VEVENT
UID:4faa0f2b37d0439dc2d2f8eebd021d84
DTSTAMP:20260424T025132Z
SUMMARY:Medicine & UnConventional Thinking to Optimize Health
DESCRIPTION:Jewish Federation of New Hampshire\nCommunity Calendar\nhttps:/
 /jewishnh.org/community-calendar/medicine--unconventional-thinking-to-opti
 mize-health-1631323110\n\n“Longevity: Using Medicine and Un-Conventional
  Thinking to Optimize Health and Wellness” will be the topic discussed b
 y Dr. Matthew Stanizzi\, Medical Director of BioRestore Health on Sunday\,
  October 17th\, at 9:30 AM\, LIVE via ZOOM presented by the Southern New H
 ampshire Jewish Men’s Club. Dr. Stanizzi’s talk will examine where Tra
 ditional Medicine stops and how Alternative Medicine and an integrative ap
 proach combined with traditional expertise can enhance and promote our lon
 gevity an...
DTSTART;TZID=America/New_York:20211017T093000
DTEND;TZID=America/New_York:20211017T110000
END:VEVENT
END:VCALENDAR
