BEGIN:VCALENDAR
PRODID:-//eluceo/ical//2.0/EN
VERSION:2.0
CALSCALE:GREGORIAN
BEGIN:VEVENT
UID:aebbbab095d8d804a0765bf514d5c852
DTSTAMP:20260423T095411Z
SUMMARY:Meet Or Cohen-First Ever Female Commander of an Israeli Naval Comba
 t Vessel
DESCRIPTION:Jewish Federation of New Hampshire\nCommunity Calendar\nhttps:/
 /jewishnh.org/community-calendar/meet-or-cohen-the-first-ever\n\nOr Cohen\
 , the first ever female commander of an Israeli Combat Vessel will be spea
 king at the Jewish Federation of New Hampshire on International Woman's Da
 y.\n\nJoin us as Or shares her story of bravery\, choices\, success and pr
 omoting equality. Listen as she tells of her personal challenges and achei
 vements\, a story that can motivate woman everywhere to be pioneers and pu
 sh the limits.\n\nAdvanced registration is required for security purposes 
 and space is limited. Please call the JFNH offic...
DTSTART;TZID=America/New_York:20200308T180000
DTEND;TZID=America/New_York:20200308T200000
END:VEVENT
END:VCALENDAR
