BEGIN:VCALENDAR
PRODID:-//eluceo/ical//2.0/EN
VERSION:2.0
CALSCALE:GREGORIAN
BEGIN:VEVENT
UID:8523ced34e6be2edf7f3534c12d964b7
DTSTAMP:20260424T203410Z
SUMMARY:Mega Challah Bake
DESCRIPTION:Jewish Federation of New Hampshire\nCommunity Calendar\nhttps:/
 /jewishnh.org/community-calendar/mega-challah-bake\n\nThe Seacoast Jewish 
 Women's Circle invites you to the Third Annual Mega Challah Bake.\n\nUNIT
 E women of all ages and affiliations in the Jewish Community\n\nDISCOVER t
 he secret of great tasting Challah and the beauty of this tradition\, uniq
 ue to Jewish Women\n\nSHARE this gift of warmth with others\n\nJoin us Sun
 day\, Februarty 20th at 6pm for Music\, Refreshments and an Amazing Raffle
 .\n\nReservations required: RSVP online at JewishSeacoast.com/JWC\n\nCouve
 rt: $25 per person\n$18 Early Bird (...
DTSTART;TZID=America/New_York:20220220T180000
DTEND;TZID=America/New_York:20220220T200000
END:VEVENT
END:VCALENDAR
