BEGIN:VCALENDAR
PRODID:-//eluceo/ical//2.0/EN
VERSION:2.0
CALSCALE:GREGORIAN
BEGIN:VEVENT
UID:a011045631f38ab6b7d039d500d2e944
DTSTAMP:20260423T064608Z
SUMMARY:Mega Challah Bake
DESCRIPTION:Jewish Federation of New Hampshire\nCommunity Calendar\nhttps:/
 /jewishnh.org/community-calendar/mega-challah-bake-1578081176\n\nLoaves of
  Love\n\nUnite with women of all ages & affiliations in the Jewish communi
 ty.\nDiscover the secret to great tasting Challah and the beauty of this t
 radition unique to Jewish women.\nShare this gift of warmth with others.\n
 Music\, Refreshments\, & Amazing raffle!\n\nSunday\, February 16\, 7PM\nCo
 uvert: $25/person\, $18 early bird special before Jan 21. Student: Free\n\
 nAt the Seacoast Jewish Women's Circle\, Jewish women come together throug
 hout the year to study\, to create\, to celebrate\, t...
DTSTART;TZID=America/New_York:20200216T190000
DTEND;TZID=America/New_York:20200216T210000
END:VEVENT
END:VCALENDAR
