BEGIN:VCALENDAR
PRODID:-//eluceo/ical//2.0/EN
VERSION:2.0
CALSCALE:GREGORIAN
BEGIN:VEVENT
UID:31f76cf81ad277613d768da67582d95c
DTSTAMP:20260423T035331Z
SUMMARY:Mekonen\, The Journey of an African Jew Post Film Discussion
DESCRIPTION:Jewish Federation of New Hampshire\nCommunity Calendar\nhttps:/
 /jewishnh.org/community-calendar/mekonen-discussion\n\nThe JFNH Israel Edu
 cation and Engagement Committee present Mekonen\, The Journey of an Africa
 n Jew through their Spotlight on Israel Fall Film Series.\n\nThe film will
  be streaming Sunday\, November 14-Saturday 20\n\nPost film Zoom discussi
 on with Rebecca Shore\, Director/Producer\, Sunday\, November 21 at 3pm\n\
 nSynopsis: The Journey of an African Jew follows the backstory and persona
 l journey of Mekonen Abebe\, a young African-Israeli Jew\, once a young sh
 epherd in Africa and now a commander in t...
DTSTART;TZID=America/New_York:20211121T150000
DTEND;TZID=America/New_York:20211121T160000
END:VEVENT
END:VCALENDAR
