BEGIN:VCALENDAR
PRODID:-//eluceo/ical//2.0/EN
VERSION:2.0
CALSCALE:GREGORIAN
BEGIN:VEVENT
UID:c84e2eb03231c04f5612521931337cad
DTSTAMP:20260422T044321Z
SUMMARY:Melvin Zabarsky Exhibit Walk-through & Reception
DESCRIPTION:Jewish Federation of New Hampshire\nCommunity Calendar\nhttps:/
 /jewishnh.org/community-calendar/melvin-zabarsky-exhibit-walk-through--rec
 eption-1684933630\n\nPlease join Temple Israel Portsmouth after Kabbalat S
 habbat services for an exhibit opening reception featuring the work of Mel
 vin Zabarsky. The artist's daughter and son-in-law will share reminiscence
 s and stories about the artwork on display.
DTSTART;TZID=America/New_York:20230602T193000
DTEND;TZID=America/New_York:20230602T203000
END:VEVENT
END:VCALENDAR
