BEGIN:VCALENDAR
PRODID:-//eluceo/ical//2.0/EN
VERSION:2.0
CALSCALE:GREGORIAN
BEGIN:VEVENT
UID:04394db5915cb8f6b7bd497057ebd274
DTSTAMP:20260424T182330Z
SUMMARY:Memorial Monument Dedication at NH State Veterans Cemetery
DESCRIPTION:Jewish Federation of New Hampshire\nCommunity Calendar\nhttps:/
 /jewishnh.org/community-calendar/memorial-monument-dedication-at-nh-state-
 veterans-cemetery\n\nThe NH State Veterans cemetery in Boscawen has a Mem
 orial Garden where\, over the years\, many organizations have erected mon
 uments in honor of specific groups of veterans. After realizing there was
  no monument remembering/ honoring Jewish veterans\, Rabbi Gary Atkins beg
 an working with the NH community to fundraise for one.  The Jewish Federa
 tion of New Hampshire has supported this project and collected the funds n
 eeded for the cost of the monument. \n\nPlease join us for the dedicatio
 n o...
DTSTART;TZID=America/New_York:20231015T130000
DTEND;TZID=America/New_York:20231015T150000
END:VEVENT
END:VCALENDAR
