BEGIN:VCALENDAR
PRODID:-//eluceo/ical//2.0/EN
VERSION:2.0
CALSCALE:GREGORIAN
BEGIN:VEVENT
UID:e9e1e4a24f00308f09fcf5a1dc26bc93
DTSTAMP:20260423T120047Z
SUMMARY:Joint Memorial Day Service
DESCRIPTION:Jewish Federation of New Hampshire\nCommunity Calendar\nhttps:/
 /jewishnh.org/community-calendar/memorial-service\n\nTemple Israel Manches
 ter and Temple Adath Yeshurun will offer a Joint Memorial Day Service on M
 onday\, May 30th at 5:00pm\, In-Person and on Zoom.\n\nThe program will ho
 nor veterans buried in the Manchester Hebrew Cemetery\, as well as all tho
 se who have served our country in military service. US flags will be in pl
 ace at the gravesites of the veterans interred in the cemetery.\n\nPlease 
 join us as we remember and honor those who have helped to keep us free.\n\
 nClick here for ZOOM link.
DTSTART;TZID=America/New_York:20220530T170000
DTEND;TZID=America/New_York:20220530T180000
END:VEVENT
END:VCALENDAR
