BEGIN:VCALENDAR
PRODID:-//eluceo/ical//2.0/EN
VERSION:2.0
CALSCALE:GREGORIAN
BEGIN:VEVENT
UID:6ba99f411abc3714ccd7ff0189e69a3e
DTSTAMP:20260422T093945Z
SUMMARY:Menorah Lighting at the State House
DESCRIPTION:Jewish Federation of New Hampshire\nCommunity Calendar\nhttps:/
 /jewishnh.org/community-calendar/menorah-lighting-at-the-state-house\n\nCh
 abad Center for Jewish Living invites you to a Family Menorah Lighting!\n\
 nIn conjunction with PJ Library\n\nSunday\, Nov 28th\n3:30pm\nState House 
 Plaza\, Concord NH\n\n• The Menorah will be lit by CTeen of New Hampshir
 e's very own:\nClara Nascimento\, Miss Liberty's Outstanding Teen 2022\n
 • Dreidel holographic glasses for the kids\n• Chanukah treats for all\
 n• Biggest menorah in the state\n• Free!
DTSTART;TZID=America/New_York:20211128T153000
DTEND;TZID=America/New_York:20211128T170000
END:VEVENT
END:VCALENDAR
