BEGIN:VCALENDAR
PRODID:-//eluceo/ical//2.0/EN
VERSION:2.0
CALSCALE:GREGORIAN
BEGIN:VEVENT
UID:c0ef39cd5289accbfaf93924cb134689
DTSTAMP:20260422T173923Z
SUMMARY:Menorah Lighting at the State House 2022
DESCRIPTION:Jewish Federation of New Hampshire\nCommunity Calendar\nhttps:/
 /jewishnh.org/community-calendar/menorah-lighting-at-the-state-house-2022\
 n\nChabad Center for Jewish Living invites you to a Family Menorah Lightin
 g!\n\nIn conjunction with PJ Library\n\nSunday\, Dec 18th\nState House Pla
 za\, Concord NH\n\nMore details coming soon!
DTSTART;TZID=America/New_York:20221218T153000
DTEND;TZID=America/New_York:20221218T170000
END:VEVENT
END:VCALENDAR
