BEGIN:VCALENDAR
PRODID:-//eluceo/ical//2.0/EN
VERSION:2.0
CALSCALE:GREGORIAN
BEGIN:VEVENT
UID:841d9c2ed54aa2c6a43b5c88a7872d4a
DTSTAMP:20260423T031159Z
SUMMARY:Family Menorah Lighting 2023
DESCRIPTION:Jewish Federation of New Hampshire\nCommunity Calendar\nhttps:/
 /jewishnh.org/community-calendar/menorah-lighting-at-the-state-house-2023\
 n\nChabad of New Hampshire in conjunction with PJ Library presents a Famil
 y Menorah Lighting! \n\nFree Chanukah Goodies\nGelt Drop\n13 Foot Menorah
  Lighting\n\n \n\nThe Menorah will be lit by Yoram Fleisher in honor of h
 is brother Avi and all those killed on October 7th in Israel.\n\nThursday\
 , Dec 7th\, 4pm at State House Plaza\, 107 North Main Street\, Concord NH
 .
DTSTART;TZID=America/New_York:20231207T160000
DTEND;TZID=America/New_York:20231207T173000
END:VEVENT
END:VCALENDAR
