BEGIN:VCALENDAR
PRODID:-//eluceo/ical//2.0/EN
VERSION:2.0
CALSCALE:GREGORIAN
BEGIN:VEVENT
UID:549ef6e34996b5133a08332cc646a191
DTSTAMP:20260422T102729Z
SUMMARY:Greater Lowell Menorah Lighting Ceremony
DESCRIPTION:Jewish Federation of New Hampshire\nCommunity Calendar\nhttps:/
 /jewishnh.org/community-calendar/menorah-lighting-ceremony-1700667922\n\nT
 he City of Lowell is proud to announce its inaugural Menorah lighting even
 t!\n\nThe City extends a warm invitation to all to join the Greater Lowell
  community together with Lowell's Jewish community in this momentous occas
 ion\, as we usher in the holiday of Chanukah amidst lively music and in a 
 festive atmosphere.
DTSTART;TZID=America/New_York:20231207T160000
DTEND;TZID=America/New_York:20231207T164500
END:VEVENT
END:VCALENDAR
