BEGIN:VCALENDAR
PRODID:-//eluceo/ical//2.0/EN
VERSION:2.0
CALSCALE:GREGORIAN
BEGIN:VEVENT
UID:096f8e12ce71eb8add796c09a8d9ce79
DTSTAMP:20260422T045523Z
SUMMARY:MENORAHS AND MARTINIS
DESCRIPTION:Jewish Federation of New Hampshire\nCommunity Calendar\nhttps:/
 /jewishnh.org/community-calendar/menorahs-and-martinis-1636736269\n\nThe J
 ewish Women's Circle invites all Jewish Women to join\nMenorahs & Martinis
 \nSunday November 21 6 pm!\nDesign and decorate your own magnificent grani
 te Menorah to illuminate your home. Spend a delightful time with friends\,
  and enjoy Latkes\, Donuts and drinks in a relaxed setting.\nDiscover your
  inner fire\, while exploring the relevance of Chanukah in our day to day 
 lives. Bring your sister\, your mom\, or a friend.\n$18 per person before 
 Nov 10th\n$25 per person starting Nov 10th\nJewishsea...
DTSTART;TZID=America/New_York:20211121T180000
DTEND;TZID=America/New_York:20211121T190000
END:VEVENT
END:VCALENDAR
