BEGIN:VCALENDAR
PRODID:-//eluceo/ical//2.0/EN
VERSION:2.0
CALSCALE:GREGORIAN
BEGIN:VEVENT
UID:415edff64d5a98ed3f679ea065b25594
DTSTAMP:20260424T034430Z
SUMMARY:Microplastic Madness
DESCRIPTION:Jewish Federation of New Hampshire\nCommunity Calendar\nhttps:/
 /jewishnh.org/community-calendar/microplastic-madness-1674848194\n\nFree v
 irtual viewing of the documentary "Microiplastic Madness" now through Febr
 uary 8\, and Question and Answer session on zoom February 5 at 11:40 A.M. 
    Register at tinyurl.com/3tdrr27a
DTSTART;TZID=America/New_York:20230127T140000
DTEND;TZID=America/New_York:20230208T235500
END:VEVENT
END:VCALENDAR
