BEGIN:VCALENDAR
PRODID:-//eluceo/ical//2.0/EN
VERSION:2.0
CALSCALE:GREGORIAN
BEGIN:VEVENT
UID:75627d4409c5e20526c4c03ba89869db
DTSTAMP:20260423T161327Z
SUMMARY:Model Matzah Bakery - Seacoast
DESCRIPTION:Jewish Federation of New Hampshire\nCommunity Calendar\nhttps:/
 /jewishnh.org/community-calendar/model-matzah-bakery---seacoast-1583297124
 \n\nCome and bake your own Matzah!An Event For the Entire Family . . .  Ex
 perience the ancient art of "Shmura Matzah" baking!Sunday March 29th 2 PM 
  Register at JewishSeacoast.com/MatzahBakery
DTSTART;TZID=America/New_York:20200329T140000
DTEND;TZID=America/New_York:20200329T160000
END:VEVENT
END:VCALENDAR
