BEGIN:VCALENDAR
PRODID:-//eluceo/ical//2.0/EN
VERSION:2.0
CALSCALE:GREGORIAN
BEGIN:VEVENT
UID:25b11f6be5e31c7a724bc1c9c1144b89
DTSTAMP:20260423T054024Z
SUMMARY:Momentum Information Session Wine and Cheese
DESCRIPTION:Jewish Federation of New Hampshire\nCommunity Calendar\nhttps:/
 /jewishnh.org/community-calendar/momentu\n\nAre you a mom raising Jewish c
 hildren under the age of 18? Join us for for an Information Night Wine and
  Cheese to learn more about the Momentum program and hear from our 2022 pa
 rticipants!\n\nJFNH is taking the next trip to Israel April 25 - May 2\, 2
 023\n\nApplication opening soon. Visit momentumunlimited.org to see if you
  qualify!\n\nThis will be hosted at a private home in Londonderry. Registr
 ation required at bit.ly/momentumnh and address will be provided upon re
 gistration.\n\nEmail All...
DTSTART;TZID=America/New_York:20221013T190000
DTEND;TZID=America/New_York:20221013T210000
END:VEVENT
END:VCALENDAR
