BEGIN:VCALENDAR
PRODID:-//eluceo/ical//2.0/EN
VERSION:2.0
CALSCALE:GREGORIAN
BEGIN:VEVENT
UID:82af723ce6212c65659e585bcd767564
DTSTAMP:20260422T051113Z
SUMMARY:Momentum Information Session
DESCRIPTION:Jewish Federation of New Hampshire\nCommunity Calendar\nhttps:/
 /jewishnh.org/community-calendar/momentum-information-session-1698931783\n
 \nLocation: \nTemple Adath Yeshurun\n152 Prospect St\nManchester\, NH 0310
 4
DTSTART;TZID=America/New_York:20231119T103000
DTEND;TZID=America/New_York:20231119T113000
END:VEVENT
END:VCALENDAR
