BEGIN:VCALENDAR
PRODID:-//eluceo/ical//2.0/EN
VERSION:2.0
CALSCALE:GREGORIAN
BEGIN:VEVENT
UID:8050fd7473fc0207c89c99549921b84b
DTSTAMP:20260423T121950Z
SUMMARY:MoMENtum Information Session for Dads
DESCRIPTION:Jewish Federation of New Hampshire\nCommunity Calendar\nhttps:/
 /jewishnh.org/community-calendar/momentum-information-session-NHdads\n\nAr
 e you a dad raising Jewish children 18 and under who are still living at h
 ome? Join us to learn more about the Momentum program and the opportunity 
 for NH dads to participate in 2024!
DTSTART;TZID=America/New_York:20230530T190000
DTEND;TZID=America/New_York:20230530T200000
END:VEVENT
END:VCALENDAR
