BEGIN:VCALENDAR
PRODID:-//eluceo/ical//2.0/EN
VERSION:2.0
CALSCALE:GREGORIAN
BEGIN:VEVENT
UID:e49a710cbcc483bc106b593b7f537d63
DTSTAMP:20260424T061822Z
SUMMARY:Mommy and me Purim edition
DESCRIPTION:Jewish Federation of New Hampshire\nCommunity Calendar\nhttps:/
 /jewishnh.org/community-calendar/mommy-and-me-purim-edition-1583296588\n\n
 Mommy and me Purim edition on Friday March 6th. We are very excited! Join 
 us! RSVP : Jewishseacoast.com/mommyandme
DTSTART;TZID=America/New_York:20200306T100000
DTEND;TZID=America/New_York:20200306T110000
END:VEVENT
END:VCALENDAR
