BEGIN:VCALENDAR
PRODID:-//eluceo/ical//2.0/EN
VERSION:2.0
CALSCALE:GREGORIAN
BEGIN:VEVENT
UID:2a8d28619a6850f30cbd185dbb11e36e
DTSTAMP:20260422T075824Z
SUMMARY:Monthly Gathering and Chanukah Celebration
DESCRIPTION:Jewish Federation of New Hampshire\nCommunity Calendar\nhttps:/
 /jewishnh.org/community-calendar/monthly-gathering-and-chanukah-celebratio
 n-1670683142\n\nCome join us for our monthly get together\, and help usher
  in the Hanukkah holiday (latke making encouraged).
DTSTART;TZID=America/New_York:20221218T100000
DTEND;TZID=America/New_York:20221218T130000
END:VEVENT
END:VCALENDAR
