BEGIN:VCALENDAR
PRODID:-//eluceo/ical//2.0/EN
VERSION:2.0
CALSCALE:GREGORIAN
BEGIN:VEVENT
UID:8a633f5308d9847be8e3383601dc52ee
DTSTAMP:20260423T090713Z
SUMMARY:Mount Washington Valley Chavurah Shabbat Service and Pot Luck Dinne
 r
DESCRIPTION:Jewish Federation of New Hampshire\nCommunity Calendar\nhttps:/
 /jewishnh.org/community-calendar/mount-washington-valley-chavurah-shabbat-
 service-and-pot-luck-dinner-1628600716\n\nMonthly Friday night gathering w
 ith short Shabbat service folloaed by a pot-luck dinner. No pork or shellf
 ish\, please.
DTSTART;TZID=America/New_York:20210827T181500
DTEND;TZID=America/New_York:20210827T201500
END:VEVENT
END:VCALENDAR
