BEGIN:VCALENDAR
PRODID:-//eluceo/ical//2.0/EN
VERSION:2.0
CALSCALE:GREGORIAN
BEGIN:VEVENT
UID:3a3e6b3964f92c5ee71904eded66176e
DTSTAMP:20260423T143713Z
SUMMARY:Mount Washington Valley Jewish Community (Chavurah) Annual Meeting
DESCRIPTION:Jewish Federation of New Hampshire\nCommunity Calendar\nhttps:/
 /jewishnh.org/community-calendar/mount-washington-valley-jewish-community-
 chavurah-annual-meeting-1623101814\n\nAnnual meeting to elect open board p
 ositions\, make plans for the upcoming year and discuss the future of the 
 Chavurah. Open to all members who have paid their dues.
DTSTART;TZID=America/New_York:20210620T110000
DTEND;TZID=America/New_York:20210620T130000
END:VEVENT
END:VCALENDAR
