BEGIN:VCALENDAR
PRODID:-//eluceo/ical//2.0/EN
VERSION:2.0
CALSCALE:GREGORIAN
BEGIN:VEVENT
UID:ebb39c1a4e907cc8dd868604675612b1
DTSTAMP:20260423T080853Z
SUMMARY:Mount Washington Valley Jewish Community Monthly Road Cleaning
DESCRIPTION:Jewish Federation of New Hampshire\nCommunity Calendar\nhttps:/
 /jewishnh.org/community-calendar/mount-washington-valley-jewish-community-
 monthly-road-cleaning-1625669451\n\nLooking for volunteers to help clean a
  two mile stretch of Hurricane Mountain Road\, part of the "Adopt-a-Highwa
 y" project.  Bring sturdy gloves\, bright shirt\, sweater or vest\, water 
 bottle\, hat and other weather appropriate sensible clothing\, etc.  We re
 mind you that this is considered a "volunteer at your own risk" event. Mor
 e details per request.\n\nOrange vests and blue trash bags will be provide
 d to us by the Glen Shed\, DOT.  Bug spray\, water\, hat and sturdy shoes 
 recommended. 
DTSTART;TZID=America/New_York:20210821T100000
DTEND;TZID=America/New_York:20210821T130000
END:VEVENT
END:VCALENDAR
