BEGIN:VCALENDAR
PRODID:-//eluceo/ical//2.0/EN
VERSION:2.0
CALSCALE:GREGORIAN
BEGIN:VEVENT
UID:4dae55ed1ca3c164c9fade9fdd28a746
DTSTAMP:20260423T103257Z
SUMMARY:Movie Club Post Film Discussion of Golda
DESCRIPTION:Jewish Federation of New Hampshire\nCommunity Calendar\nhttps:/
 /jewishnh.org/community-calendar/movie-club-post-film-discussion-of-golda\
 n\nTogether the New Hampshire Jewish Film Festival and Israel Education an
 d Engagment Committee will discuss the 2023 film Golda staring Helen Mirre
 n.\n\nViewers can watch the film on their own ahead of the discussion and 
 then join us on Zoom as we discuss both the film and history of Golda Meir
 .\n\nThis program will be through Zoom only.
DTSTART;TZID=America/New_York:20240121T150000
DTEND;TZID=America/New_York:20240121T163000
END:VEVENT
END:VCALENDAR
