BEGIN:VCALENDAR
PRODID:-//eluceo/ical//2.0/EN
VERSION:2.0
CALSCALE:GREGORIAN
BEGIN:VEVENT
UID:0a380d2f98f52ef5fe1ca56a12920dbd
DTSTAMP:20260423T015244Z
SUMMARY:Movie Club - Sabbath Queen
DESCRIPTION:Jewish Federation of New Hampshire\nCommunity Calendar\nhttps:/
 /jewishnh.org/community-calendar/movie-club-sabbath-queen\n\nNew Hampshire
  Jewish Film Festival's Movie Club comes together to watch Sabbath Queen
  followed by a post-film discussion.\n\n\nJoin us in person at Chunky's
  Cinema Pub in Manchester on Sunday\, June 22nd at 3pm for a showing of 
 the film\, followed by a post film discussion with Rabbi Robin Nafshi of 
 Temple Beth Jacob in Concord and Rabbi Beth Davidson of Temple Adath Yeshu
 run in Manchester.\n\nChunky's Cinema Pub is located at 707 Huse Road\, 
 Manchester\, NH 03103. \n$10/person. Addition...
DTSTART;TZID=America/New_York:20250622T150000
DTEND;TZID=America/New_York:20250622T180000
END:VEVENT
END:VCALENDAR
