BEGIN:VCALENDAR
PRODID:-//eluceo/ical//2.0/EN
VERSION:2.0
CALSCALE:GREGORIAN
BEGIN:VEVENT
UID:d3b1f3a19bc1807a1717f31b40e83f54
DTSTAMP:20260422T161253Z
SUMMARY:Mt. Monadnock Hike with The Southern New Hampshire Jewish Men’s C
 lub
DESCRIPTION:Jewish Federation of New Hampshire\nCommunity Calendar\nhttps:/
 /jewishnh.org/community-calendar/mt-monadnock-hike-with-the-southern-new-h
 ampshire-jewish-mens-club\n\nThe hike is open to all genders\, ages\, and 
 affiliations (you don't have to be Jewish or a man to join us) - the impor
 tant thing is that you like to hike.\n\n·        Duration: 4-5 h
 ours\n\n·        Hike Leader: Matthew Lee\n\n·        R
 SVP to: hikersvp@snhjmc.org 
DTSTART;TZID=America/New_York:20181104T100000
DTEND;TZID=America/New_York:20181104T140000
END:VEVENT
END:VCALENDAR
