BEGIN:VCALENDAR
PRODID:-//eluceo/ical//2.0/EN
VERSION:2.0
CALSCALE:GREGORIAN
BEGIN:VEVENT
UID:88706e321972fad0a01e8a5cc88ae1ca
DTSTAMP:20260423T114823Z
SUMMARY:Museum of New Hampshire Jewish History Opening Night
DESCRIPTION:Jewish Federation of New Hampshire\nCommunity Calendar\nhttps:/
 /jewishnh.org/community-calendar/museum-of-new-hampshire-jewish-history-op
 ening-night\n\nPlease join our Livestream here: https://givebutter.com/In
 XuPl\n\n \n\nTuesday\, Nov. 15\, 2022\, 6:00pm\nJewish Federation of New 
 Hampshire\n273 South River Road\, Bedford \n\nThe museum will open with i
 ts first exhibit will be the life and times of Doctor Benjamin Bronstein. 
 With the recognition of Dr. Bronstein and the launching close to Veteran D
 ay\, the museum will honor all the New Hampshire Jewish veterans past and
  presently serving.\n\nThe museum’s mission is to collect\, preserve an
 ...
DTSTART;TZID=America/New_York:20221115T180000
DTEND;TZID=America/New_York:20221115T200000
END:VEVENT
END:VCALENDAR
